BEGIN:VCALENDAR
VERSION:2.0
PRODID:-//Youth Photographic Society - ECPv6.15.12.2//NONSGML v1.0//EN
CALSCALE:GREGORIAN
METHOD:PUBLISH
X-ORIGINAL-URL:https://www.ypsbengaluru.com
X-WR-CALDESC:Events for Youth Photographic Society
REFRESH-INTERVAL;VALUE=DURATION:PT1H
X-Robots-Tag:noindex
X-PUBLISHED-TTL:PT1H
BEGIN:VTIMEZONE
TZID:Asia/Kolkata
BEGIN:STANDARD
TZOFFSETFROM:+0530
TZOFFSETTO:+0530
TZNAME:IST
DTSTART:20160101T000000
END:STANDARD
END:VTIMEZONE
BEGIN:VEVENT
DTSTART;TZID=Asia/Kolkata:20250111T170300
DTEND;TZID=Asia/Kolkata:20250111T193000
DTSTAMP:20260422T134133
CREATED:20250106T013000Z
LAST-MODIFIED:20250108T064214Z
UID:17515-1736614980-1736623800@www.ypsbengaluru.com
SUMMARY:Picture Selection For Salons
DESCRIPTION:YPS Saturday Meet | Jan 11\, Sat | 5:30 PM IST | Salon Participation | Google Meet Talk by:Mr H Satish\,D.cine\, MFIAP\, MICS\, ARPS\, PPSA\, cMoL\, GPA.PESGSPC\, Hon.FICS\, Hon.CPE\, Hon. PESGSPC\, Hon.YPS\,Hon. ECPA\, Hon.FLAS\, Hon.FWPAI\, Hon.FSAP\, Hon.PSP\, Patron LMG. Hon.GMTPAS\, Hon.ADCC\, Hon.EUSPA\, Hon.FTPAS Participation in salons is not only a step towards improving one’s photography skills but also an integral part to earn distinctions from various photography federations. Earning Distinctions requires ‘Acceptances and Awards’ in salons.  The talk by Satish\, who has been participating in salons since 1985 will cover topics such as: Judging of images in National and International salons\n\nSelection of images\n\nVarious sections in salons\n\nImages suitable under each section\n\nImage sizeAbout H SatishThe art of playing with light and presenting things ordinary in extraordinary perspective\, the portrayal of nature in its finest detail and to capture the various human emotions in all its glory is what distinguishes Satish. He is the first Indian to be honored with EFIAP and MFIAP in Nature color prints and the youngest Indian to get MFIAP. He is also the first Indian to get two master’s distinctions in the Nature section\, from international photography bodies.  He has judged more than 38 international and 49 national salons. His pictures have graced all the guidebooks published by ‘Outlook Traveler’ and ‘Today- Travel Plus’ magazines.  He has contributed calendar spreads to WWF\, BEML\, BHEL\, MICO\, MCF and Canara Bank. Andhra Pradesh Photography Academy has published a book on his wildlife photographic journey. Till date\, he has won 978 national and international awards. For his achievements\, he has been conferred with the title of Karnataka’s State Artist – an award in the field of Art of Photography by Karnataka Lalit Kala Academy. Satish has been a member of Youth Photographic Society for 42 years and served as Secretary\, Vice President and President of the club.  He proudly says ‘YPS is the No.1 photography club in India.’ Website: https://www.hsatish.com Instagram: https://www.instagram.com/hsatishblr/ Language: English Request you to join the session 15 minutes prior to check your audio and video functionality. The session starts sharp at 5.30 PM IST Here is how to participate: Click here or visit the below Google Meet Link on the day of the eventGoogle Meet Link: https://meet.google.com/bje-usax-xaw In case of any issues in connecting to the meeting\, please call us on our official number by clicking here or simply dial: +91 9513-YPS-BLR (+91 9513-977-257) You can also WhatsApp us by clicking here (or on the icon below) or by sending a WhatsApp message on the below-mentioned official number.   Note: Registration is NOT necessary and look forward to seeing you all on Saturday at 5:15 PM IST. Some salient features of YPS Saturday Meets: Exclusively for Members.\n\nHear and be heard – These are interactive sessions and not talk shows.\n\nDiscuss and learn from real Member Pictures for absolute learning for everyone.\n\nOpinions from experts and knowledge from everyone who wants to share.Some Google Meet Self-Disciplines to be followed to make the experience memorable for everyone: Do not interrupt when something is being presented. Keep a note of questions and ask them at the end when the moderator opens the floor for questions.\n\nKeep your lines muted when not talking or asking questions.\n\nKeep your questions and discussions brief and to the point.\n\nIf you cannot get the required answer in two discussions\, take them offline with the panel member.-YPS Executive Committee
URL:https://www.ypsbengaluru.com/event/psfs/
CATEGORIES:YPS Meet - Live,YPS Salon In Focus
ATTACH;FMTTYPE=image/jpeg:https://www.ypsbengaluru.com/wp-content/uploads/2024/12/photo-selection-for-salons.jpg
END:VEVENT
BEGIN:VEVENT
DTSTART;TZID=Asia/Kolkata:20240420T173000
DTEND;TZID=Asia/Kolkata:20240420T193000
DTSTAMP:20260422T134133
CREATED:20240408T082333Z
LAST-MODIFIED:20240415T064948Z
UID:16511-1713634200-1713641400@www.ypsbengaluru.com
SUMMARY:Introduction to Salons
DESCRIPTION:YPS Salon | Apr 20\, Sat | 5:30 PM IST | Google Meet\nHere’s an opportunity to clear your ‘SALON RELATED’ doubts. \nWhat are SALONS? \n* Types of Recognitions (FIAP\, PSA…)\n* Types of distinctions\n* Image size\n* Image title\n* Maintaining records\n* The entire steps from applying to salons till distinctions…. \nPlease join and get to know about the ‘ WORLD OF SALONS ‘ \n \nMentor:\nMr Venkatesh BS\n Venkatesh\, an amateur photographer is based out of Bangalore\, India. He has captured lovely images of natural wonders in Europe and USA\, both in film as well as in DSLR and mirrorless cameras.\nHe has done multiple cultural photo tours all over India\, including meeting tribals. He also does wildlife photography and goes on frequent safaris including Masai Mara in Kenya. Since last few years\, he actively participates in salons and has won over 1000 awards and 7000+ acceptances. In addition\, his articles on photography and tours have been published in various photo journals. Professionally\, he is a Software/IT Entrepreneur. He holds a master’s degree in Computer Engineering from USA.\nVenkatesh serves as Director of PSA Travel Interclub contest as well as PSA’s Exhibition Standards Director. He is a life member of Federation of Indian Photography (FIP) and organizes quarterly Nature contests. He is also an active member of Youth Photographic Society\, Bengaluru and serves as the Salon Lead. \n \n  \n 
URL:https://www.ypsbengaluru.com/event/introduction-to-salons/
LOCATION:Google Meet
CATEGORIES:YPS Meets,YPS Salon In Focus,YPS Special Interest Group
ATTACH;FMTTYPE=image/jpeg:https://www.ypsbengaluru.com/wp-content/uploads/2024/04/20240420_Venkatesh-BS-Web-2.jpg
END:VEVENT
BEGIN:VEVENT
DTSTART;TZID=Asia/Kolkata:20190713T183000
DTEND;TZID=Asia/Kolkata:20190713T210000
DTSTAMP:20260422T134133
CREATED:20190707T175649Z
LAST-MODIFIED:20190709T171703Z
UID:6672-1563042600-1563051600@www.ypsbengaluru.com
SUMMARY:Salon In Focus - YPS International Salon 2019
DESCRIPTION:YPS Salon In Focus | Jul 13 | 6:30 PM | YPS Hall\nThis time the YPS Open House program is designed exclusively for the members interested in participating and winning in National and International Salons. The Salon in Focus will be conducted by none other than Mr. H Satish\, President YPS who has more than 875 Salon wins awards and has been part of jury in more than 50 National and International Salons. The  Salon in Focus for this week is the “YPS International Salon 2019“. \nThe “Salon In Focus” program is aimed at increasing participation and winning by YPS Members in National and International Salons.  This will be achieved by\, \n\nforming and nurturing salon focused group\ncritically reviewing pictures with specific salons in mind\nsharing and learning ideas for collective growth of the entire group\ncelebrating successes from Salons\neliminating duplication and competition from within the group thereby the chances of success for the entire group is enhanced\n\nMy Actions\nSalon in Focus for this session is “YPS International Salon 2019”. \n\nYPS International Salon 2019 accepts pictures under 6 (4 Digital and 2 Print(Closed)) categories. Identify and shortlist no more than 8 pictures under each category that you plan to submit.\nResize the selected images in the resolution that the Salon has stipulated (maximum 1920 pixels width and maximum 1200 pixels height) so that the images are ready for submission.\nCopy them on a pen-drive\, preferably under separate folders for each category\, and bring them to the venue.\n\nWhat will you get\nThe pictures will be projected in  native resolution. Mr. Satish will review the pictures and provide specific guidance regarding its strengths and shortcomings to help you decide on its submission. \nReach the venue on time and be prepared to stay till the end of the session. \n-YPS Executive Committee
URL:https://www.ypsbengaluru.com/event/yps-salon-in-focus-yps-international-salon-2019/
LOCATION:State Youth Centre\, State Youth Centre\,Nrupathunga Road\, Bangalore\, Karnataka\, 560001\, India
CATEGORIES:YPS Salon In Focus
ATTACH;FMTTYPE=image/png:https://www.ypsbengaluru.com/wp-content/uploads/2019/07/Salon-in-Focus-YPS-International-Salon-2019-e1562522151531.png
ORGANIZER;CN="Youth Photographic Society":MAILTO:contactus@ypsbengaluru.com
END:VEVENT
BEGIN:VEVENT
DTSTART;TZID=Asia/Kolkata:20181110T183000
DTEND;TZID=Asia/Kolkata:20181110T210000
DTSTAMP:20260422T134133
CREATED:20181108T141438Z
LAST-MODIFIED:20181109T043343Z
UID:5002-1541874600-1541883600@www.ypsbengaluru.com
SUMMARY:YPS Salon In Focus - YPS 36th All India Salon 2018
DESCRIPTION:YPS Salon In Focus | Nov 10 | 6:30 PM | State Youth Centre\nThis time the YPS Open House program is designed exclusively for the members interested in participating and winning in National and International Salons. The Salon in Focus will be conducted by no other than Mr. H. Satish\, President YPS who has more than 875 Salon wins and had been part of jury in more than 48 National and International Salons. The  Salon in Focus for this week is the “YPS 36th All India Salon 2018“. \nThe “Salon In Focus” program is aimed at increasing participation and winning by YPS Members in National and International Salons.  This will be achieved by\, \n\nforming and nurturing salon focused group\ncritically reviewing pictures with specific salons in mind\nsharing and learning ideas for collective growth of the entire group\ncelebrating successes from Salons\neliminating duplication and competition from within the group thereby the chances of success for the entire group is enhanced\n\nMy Actions\nThis Salon in Focus for this session is “YPS 36th All India Salon 2018”. \n\nYPS 36th All India Salon 2018 accepts pictures under 4 categories. Identify and shortlist no more than 8 pictures under each category that you plan to submit.\nResize the selected images in the resolution that the Salon has stipulated (maximum 1920 pixels width and maximum 1200 pixels height) so that the images are ready for submission.\nCopy them on a pen-drive\, preferably under separate folders for each category\, and bring them to the venue.\n\nWhat will you get\nThe pictures will be projected in  native resolution. Mr. Satish will review the pictures and provide specific guidance regarding its strengths and shortcomings to help you decide on its submission. \nReach the venue on time and be prepared to stay till the end of the session. \n  \nYPS Executive Committee
URL:https://www.ypsbengaluru.com/event/yps-salon-in-focus-yps-36th-all-india-salon-2018/
LOCATION:State Youth Centre\, State Youth Centre\,Nrupathunga Road\, Bangalore\, Karnataka\, 560001\, India
CATEGORIES:YPS Salon In Focus
ATTACH;FMTTYPE=image/png:https://www.ypsbengaluru.com/wp-content/uploads/2018/11/E37E4C60-ABEB-49D1-86B6-0587CFBAC588.png
END:VEVENT
BEGIN:VEVENT
DTSTART;TZID=Asia/Kolkata:20180714T183000
DTEND;TZID=Asia/Kolkata:20180714T210000
DTSTAMP:20260422T134133
CREATED:20180711T063513Z
LAST-MODIFIED:20180711T063513Z
UID:4658-1531593000-1531602000@www.ypsbengaluru.com
SUMMARY:YPS Salon In Focus - YPS International Salon 2018
DESCRIPTION:YPS Salon In Focus | Jul 14 | 6:30 PM | State Youth Centre\nThis time the YPS Open House program is designed exclusively for the members interested in participating and winning in National and International Salons. The Salon in Focus will be conducted by no other than Mr. H. Satish\, President YPS who has more than 500 Salon wins and had been part of jury in more than 200 Salons. The  Salon in Focus for this week is the “YPS International Salon 2018“. \n \nThe “Salon In Focus” program is aimed at increasing participation and winning by YPS Members in National and International Salons.  This will be achieved by\, \n\nforming and nurturing salon focused group\ncritically reviewing pictures with specific salons in mind\nsharing and learning ideas for collective growth of the entire group\ncelebrating successes from Salons\neliminating duplication and competition from within the group thereby the chances of success for the entire group is enhanced\n\nMy Actions\nThis Salon in Focus for this session is “YPS International Salon 2018”. \n\nYPS International Salon 2018 accepts pictures under 6 categories. Identify and shortlist no more than 8 pictures under each category that you plan to submit.\nResize the selected images in the resolution that the Salon has stipulated (maximum 1920 pixels width and maximum 1200 pixels height) so that the images are ready for submission.\nCopy them on a pen-drive\, preferably under separate folders for each category\, and bring them to the venue.\n\nWhat will you get\nThe pictures will be projected in  native resolution. Mr. Satish will review the pictures and provide specific guidance regarding its strengths and shortcomings to help you decide on its submission. \nReach the venue on time and be prepared to stay till the end of the session.
URL:https://www.ypsbengaluru.com/event/yps-salon-in-focus-yps-international-salon-2018/
LOCATION:State Youth Centre (3rd Floor)\, State Youth Centre\, Nrupathunga Road\, Bangalore\, Karnataka\, 560001\, India
CATEGORIES:YPS Salon In Focus
ATTACH;FMTTYPE=image/jpeg:https://www.ypsbengaluru.com/wp-content/uploads/2018/07/YPSOpenHouseJul4-Salon-in-Focus-YPS-International-Salon-2018.jpg
ORGANIZER;CN="Youth Photographic Society":MAILTO:contactus@ypsbengaluru.com
END:VEVENT
BEGIN:VEVENT
DTSTART;TZID=Asia/Kolkata:20171209T183000
DTEND;TZID=Asia/Kolkata:20171209T210000
DTSTAMP:20260422T134133
CREATED:20171205T134137Z
LAST-MODIFIED:20171205T134137Z
UID:3520-1512844200-1512853200@www.ypsbengaluru.com
SUMMARY:YPS Salon In Focus - YPS All India Salon 2017
DESCRIPTION:YPS Salon In Focus | Dec 9 | 6:30 PM | State Youth Centre\n(Rescheduled from last week) \nContinuing the success of YPS Open House programs\, here is a program designed exclusively for the members interested in participating and winning in National and International Salons. The Salon In Focus will be conducted by no other than Mr. Satish\, President YPS who has more than 500 Salon wins and had been part of jury in more than 200 Salons. The Salon in Focus for this week is the “YPS All India Salon 2017“. \n \nThe “Salon In Focus” program is aimed at increasing participation and winning by YPS Members in National and International Salons.  This will be achieved by\, \n\nforming and nurturing salon focused group\ncritically reviewing pictures with specific salons in mind\nsharing and learning ideas for collective growth of the entire group\ncelebrating successes from Salons\neliminating duplication and competition from within the group thereby the chances of success for the entire group is enhanced\n\nMy Actions\nThis Salon in Focus for this session is “YPS All India Salon 2017”. \n\nYPS All India Salon 2017 accepts pictures under 4 categories. Identify and shortlist no more than 8 pictures under each category that you plan to submit.\nResize the selected images in the resolution that the Salon has stipulated (maximum 1920 pixels width and maximum 1200 pixels height) so that the images are ready for submission.\nCopy them on a pen-drive\, preferably under separate folders for each category\, and bring them to the venue.\n\nWhat will you get\nThe pictures will be projected in  native resolution. Mr. Satish will review the pictures and provide specific guidance regarding its strengths and shortcomings to help you decide on its submission. \nReach the venue on time and be prepared to stay till the end of the session.
URL:https://www.ypsbengaluru.com/event/yps-salon-in-focus-yps-all-india-salon-2017-2/
LOCATION:State Youth Centre (3rd Floor)\, State Youth Centre\, Nrupathunga Road\, Bangalore\, Karnataka\, 560001\, India
CATEGORIES:YPS Salon In Focus
ATTACH;FMTTYPE=image/jpeg:https://www.ypsbengaluru.com/wp-content/uploads/2017/11/featured-2.jpg
ORGANIZER;CN="Youth Photographic Society":MAILTO:contactus@ypsbengaluru.com
END:VEVENT
BEGIN:VEVENT
DTSTART;TZID=Asia/Kolkata:20171202T183000
DTEND;TZID=Asia/Kolkata:20171202T210000
DTSTAMP:20260422T134133
CREATED:20171130T101528Z
LAST-MODIFIED:20171205T134407Z
UID:3477-1512239400-1512248400@www.ypsbengaluru.com
SUMMARY:YPS Salon In Focus - YPS All India Salon 2017
DESCRIPTION:YPS Salon In Focus | Dec 2 | 6:30 PM | State Youth Centre\nCANCELLED DUE TO NON AVAILABILITY OF VENUE \nContinuing the success of YPS Open House programs\, here is a program designed exclusively for the members interested in participating and winning in National and International Salons. The Salon In Focus will be conducted by no other than Mr. Satish\, President YPS who has more than 500 Salon wins and had been part of jury in more than 200 Salons. The Salon in Focus for this week is the “YPS All India Salon 2017“. \n \nThe “Salon In Focus” program is aimed at increasing participation and winning by YPS Members in National and International Salons.  This will be achieved by\, \n\nforming and nurturing salon focused group\ncritically reviewing pictures with specific salons in mind\nsharing and learning ideas for collective growth of the entire group\ncelebrating successes from Salons\neliminating duplication and competition from within the group thereby the chances of success for the entire group is enhanced\n\nMy Actions\nThis Salon in Focus for this session is “YPS All India Salon 2017”. \n\nYPS All India Salon 2017 accepts pictures under 4 categories. Identify and shortlist no more than 4 pictures under each category that you plan to submit.\nResize the selected images in the resolution that the Salon has stipulated (maximum 1920 pixels width and maximum 1200 pixels height) so that the images are ready for submission.\nCopy them on a pen-drive\, preferably under separate folders for each category\, and bring them to the venue.\n\nWhat will you get\nThe pictures will be projected in  native resolution. Mr. Satish will review the pictures and provide specific guidance regarding its strengths and shortcomings to help you decide on its submission. \nReach the venue on time and be prepared to stay till the end of the session. \n  \n  \n 
URL:https://www.ypsbengaluru.com/event/yps-salon-in-focus-yps-all-india-salon-2017/
LOCATION:State Youth Centre (3rd Floor)\, State Youth Centre\, Nrupathunga Road\, Bangalore\, Karnataka\, 560001\, India
CATEGORIES:YPS Salon In Focus
ATTACH;FMTTYPE=image/jpeg:https://www.ypsbengaluru.com/wp-content/uploads/2017/11/featured-2.jpg
ORGANIZER;CN="Youth Photographic Society":MAILTO:contactus@ypsbengaluru.com
END:VEVENT
END:VCALENDAR